BEGIN:VCALENDAR
PRODID:-//Calendar export
VERSION:2.0
X-WR-TIMEZONE:Etc/GMT
BEGIN:VTIMEZONE
TZID:GMT Standard Time
BEGIN:STANDARD
TZOFFSETFROM:+0000
TZOFFSETTO:+0000
END:STANDARD
END:VTIMEZONE
BEGIN:VEVENT
UID:AE110
DTSTAMP:20260423T090300Z
SUMMARY:Beach Glass Festival Ashtabula Harbor
CLASS:PUBLIC
DESCRIPTION:
STATUS:CONFIRMED
PRIORITY:1
DTSTART:20260627T040000Z
DTEND:20260629T035900Z
TRANSP:OPAQUE
END:VEVENT
END:VCALENDAR
